BEGIN:VCALENDAR
VERSION:2.0
CALSCALE:GREGORIAN
PRODID:-//WordPress//RSVPMaker//EN
METHOD:REQUEST
BEGIN:VEVENT
DTSTAMP:20260423T191532Z
UID:F7E6C85504CE6E82442C770F7C8606F0@rsvpmaker.com
SEQUENCE:0
STATUS:CONFIRMED
DTSTART:20240706T170000Z
DTEND:20240706T190000Z
LOCATION:See\: https\://troop46230.com/rsvpmaker/snoqualmie-falls-hike
 /
SUMMARY:Snoqualmie Falls Hike
DESCRIPTION:Event info\: https\://troop46230.com/rsvpmaker/snoqualmie-
 falls-hike/
END:VEVENT
END:VCALENDAR