BEGIN:VCALENDAR
VERSION:2.0
CALSCALE:GREGORIAN
PRODID:-//WordPress//RSVPMaker//EN
METHOD:REQUEST
BEGIN:VEVENT
DTSTAMP:20260423T174010Z
UID:3871BD64012152BFB53FDF04B401193F@rsvpmaker.com
SEQUENCE:0
STATUS:CONFIRMED
DTSTART:20241214T100000Z
DTEND:20241214T120000Z
LOCATION:See\: https\://troop46230.com/rsvpmaker/soap-bath-fizzy-makin
 g-december-14th/
SUMMARY:Soap &amp; Bath Fizzy Making - December 14th
DESCRIPTION:Event info\: https\://troop46230.com/rsvpmaker/soap-bath-f
 izzy-making-december-14th/
END:VEVENT
END:VCALENDAR