BEGIN:VCALENDAR
VERSION:2.0
CALSCALE:GREGORIAN
PRODID:-//WordPress//RSVPMaker//EN
METHOD:REQUEST
BEGIN:VEVENT
DTSTAMP:20260423T191810Z
UID:08D98638C6FCD194A4B1E6992063E944@rsvpmaker.com
SEQUENCE:0
STATUS:CONFIRMED
DTSTART:20241215T100000Z
DTEND:20241215T120000Z
LOCATION:See\: https\://troop46230.com/rsvpmaker/soap-bath-fizzy-makin
 g-december-15th/
SUMMARY:Soap &amp; Bath Fizzy Making – December 15th
DESCRIPTION:Event info\: https\://troop46230.com/rsvpmaker/soap-bath-f
 izzy-making-december-15th/
END:VEVENT
END:VCALENDAR