BEGIN:VCALENDAR
VERSION:2.0
CALSCALE:GREGORIAN
PRODID:-//WordPress//RSVPMaker//EN
METHOD:REQUEST
BEGIN:VEVENT
DTSTAMP:20260423T124440Z
UID:880610AA9F9DE9EA7C545169C716F477@rsvpmaker.com
SEQUENCE:0
STATUS:CONFIRMED
DTSTART:20260605T213000Z
DTEND:20260605T223000Z
LOCATION:See\: https\://troop46230.com/rsvpmaker/spring-encamporee/
SUMMARY:Spring Encamporee
DESCRIPTION:Event info\: https\://troop46230.com/rsvpmaker/spring-enca
 mporee/
END:VEVENT
END:VCALENDAR