BEGIN:VCALENDAR
VERSION:2.0
CALSCALE:GREGORIAN
PRODID:-//WordPress//RSVPMaker//EN
METHOD:REQUEST
BEGIN:VEVENT
DTSTAMP:20260423T191810Z
UID:E2230B853516E7B05D79744FBD4C9C13@rsvpmaker.com
SEQUENCE:0
STATUS:CONFIRMED
DTSTART:20250111T130000Z
DTEND:20250111T160000Z
LOCATION:See\: https\://troop46230.com/rsvpmaker/su-520-530-cookie-ral
 ly/
SUMMARY:SU 520/530 Cookie Rally
DESCRIPTION:Event info\: https\://troop46230.com/rsvpmaker/su-520-530-
 cookie-rally/
END:VEVENT
END:VCALENDAR