BEGIN:VCALENDAR
VERSION:2.0
CALSCALE:GREGORIAN
PRODID:-//WordPress//RSVPMaker//EN
METHOD:REQUEST
BEGIN:VEVENT
DTSTAMP:20260423T205032Z
UID:C0E190D8267E36708F955D7AB048990D@rsvpmaker.com
SEQUENCE:0
STATUS:CONFIRMED
DTSTART:20250516T210000Z
DTEND:20250516T220000Z
LOCATION:See\: https\://troop46230.com/rsvpmaker/su-520-spring-encampo
 ree/
SUMMARY:SU 520 Spring Encamporee
DESCRIPTION:Event info\: https\://troop46230.com/rsvpmaker/su-520-spri
 ng-encamporee/
END:VEVENT
END:VCALENDAR