BEGIN:VCALENDAR
VERSION:2.0
CALSCALE:GREGORIAN
PRODID:-//WordPress//RSVPMaker//EN
METHOD:REQUEST
BEGIN:VEVENT
DTSTAMP:20260423T205006Z
UID:3B8A614226A953A8CD9526FCA6FE9BA5@rsvpmaker.com
SEQUENCE:0
STATUS:CONFIRMED
DTSTART:20240927T210000Z
DTEND:20240927T220000Z
LOCATION:See\: https\://troop46230.com/rsvpmaker/su520-fall-encamporee
 /
SUMMARY:SU520 Fall Encamporee
DESCRIPTION:Event info\: https\://troop46230.com/rsvpmaker/su520-fall-
 encamporee/
END:VEVENT
END:VCALENDAR