BEGIN:VCALENDAR
VERSION:2.0
CALSCALE:GREGORIAN
PRODID:-//WordPress//RSVPMaker//EN
METHOD:REQUEST
BEGIN:VEVENT
DTSTAMP:20260423T191532Z
UID:A9A6653E48976138166DE32772B1BF40@rsvpmaker.com
SEQUENCE:0
STATUS:CONFIRMED
DTSTART:20250208T213000Z
DTEND:20250208T233000Z
LOCATION:See\: https\://troop46230.com/rsvpmaker/su520-world-thinking-
 day/
SUMMARY:SU520 World Thinking Day
DESCRIPTION:Event info\: https\://troop46230.com/rsvpmaker/su520-world
 -thinking-day/
END:VEVENT
END:VCALENDAR