BEGIN:VCALENDAR
VERSION:2.0
CALSCALE:GREGORIAN
PRODID:-//WordPress//RSVPMaker//EN
METHOD:REQUEST
BEGIN:VEVENT
DTSTAMP:20260423T174215Z
UID:A97DA629B098B75C294DFFDC3E463904@rsvpmaker.com
SEQUENCE:0
STATUS:CONFIRMED
DTSTART:20240413T160000Z
DTEND:20240413T163000Z
LOCATION:See\: https\://troop46230.com/rsvpmaker/troop-gift-of-caring-
 cookie-donation-drop-off-at-north-helpline/
SUMMARY:Troop Gift Of Caring - Cookie Donation Drop off at North Helpl
 ine
DESCRIPTION:Event info\: https\://troop46230.com/rsvpmaker/troop-gift-
 of-caring-cookie-donation-drop-off-at-north-helpline/
END:VEVENT
END:VCALENDAR